BEGIN:VCALENDAR
VERSION:2.0
PRODID:-//Sleepy Hollow Golf Club - ECPv6.15.20//NONSGML v1.0//EN
CALSCALE:GREGORIAN
METHOD:PUBLISH
X-ORIGINAL-URL:https://sleepyhollowgolfclub.com
X-WR-CALDESC:Events for Sleepy Hollow Golf Club
REFRESH-INTERVAL;VALUE=DURATION:PT1H
X-Robots-Tag:noindex
X-PUBLISHED-TTL:PT1H
BEGIN:VTIMEZONE
TZID:America/New_York
BEGIN:DAYLIGHT
TZOFFSETFROM:-0500
TZOFFSETTO:-0400
TZNAME:EDT
DTSTART:20250309T070000
END:DAYLIGHT
BEGIN:STANDARD
TZOFFSETFROM:-0400
TZOFFSETTO:-0500
TZNAME:EST
DTSTART:20251102T060000
END:STANDARD
BEGIN:DAYLIGHT
TZOFFSETFROM:-0500
TZOFFSETTO:-0400
TZNAME:EDT
DTSTART:20260308T070000
END:DAYLIGHT
BEGIN:STANDARD
TZOFFSETFROM:-0400
TZOFFSETTO:-0500
TZNAME:EST
DTSTART:20261101T060000
END:STANDARD
BEGIN:DAYLIGHT
TZOFFSETFROM:-0500
TZOFFSETTO:-0400
TZNAME:EDT
DTSTART:20270314T070000
END:DAYLIGHT
BEGIN:STANDARD
TZOFFSETFROM:-0400
TZOFFSETTO:-0500
TZNAME:EST
DTSTART:20271107T060000
END:STANDARD
END:VTIMEZONE
BEGIN:VEVENT
DTSTART;VALUE=DATE:20260424
DTEND;VALUE=DATE:20260425
DTSTAMP:20260424T082941
CREATED:20260420T114502Z
LAST-MODIFIED:20260423T190020Z
UID:72976-1776988800-1777075199@sleepyhollowgolfclub.com
SUMMARY:Ruggier Party
DESCRIPTION:8238B\n7:00-10:00\n$400 Room rental\n$50 Tech fee\n$40/hour Bartender Open have a bar cap\nThey request any bartender but Kandis\nLinens Black/Black\n40 People\nPrime Rib carving station\nGrilled chicken\nGarlic mashed potatoes\ngreen beans\nsalad\nbread\ndrink station\n$38 pp
URL:https://sleepyhollowgolfclub.com/event/ruggier-party/
CATEGORIES:Anderson Room,Mukesh Room
END:VEVENT
BEGIN:VEVENT
DTSTART;VALUE=DATE:20260425
DTEND;VALUE=DATE:20260426
DTSTAMP:20260424T082941
CREATED:20260420T114502Z
LAST-MODIFIED:20260423T190020Z
UID:72975-1777075200-1777161599@sleepyhollowgolfclub.com
SUMMARY:Jordan Bridal Shower
DESCRIPTION:Liz Jordan\nEvent #8235B\nPd deposit $250\nRoom rental $400\n11-3:00\n35 people (6 Tables)\nIvory Linens $75\nGift table\nfavor table\ndessert table\nFruit\nFruit Yogurt\nWaffles \nScrambles eggs\nbacon\nsausage\nbreakfast potatoes\nDrink Station\n$20\nCoffee $50
URL:https://sleepyhollowgolfclub.com/event/jordan-bridal-shower/
CATEGORIES:Anderson Room,Mukesh Room
END:VEVENT
BEGIN:VEVENT
DTSTART;VALUE=DATE:20260509
DTEND;VALUE=DATE:20260510
DTSTAMP:20260424T082941
CREATED:20260420T114502Z
LAST-MODIFIED:20260423T190020Z
UID:72979-1778284800-1778371199@sleepyhollowgolfclub.com
SUMMARY:Brookes Grad Party
DESCRIPTION:Eric Brookes\nebrookes@fca.org\n304-767-5904\n8244B
URL:https://sleepyhollowgolfclub.com/event/brookes-grad-party/
CATEGORIES:Anderson Room,Mukesh Room
END:VEVENT
BEGIN:VEVENT
DTSTART;VALUE=DATE:20260514
DTEND;VALUE=DATE:20260515
DTSTAMP:20260424T082941
CREATED:20260420T114502Z
LAST-MODIFIED:20260423T190020Z
UID:72980-1778716800-1778803199@sleepyhollowgolfclub.com
SUMMARY:Wealth Enhancement
DESCRIPTION:rhentschel@wealthenhancement.com \nRachel Hentschel\nEvent# 8245BAnderson room$500Tech fee40-50 guests \n\n4:30 PM – Wealth Enhancement on-site lead arrives\n5:00 PM – Wealth Enhancement Speakers / Charles Schwab team arrives\n5:30 PM – Guests arrive\, take seats\, select items from buffet\, drink service.\n6:00 PM – Presentation starts (Silent Service)\n6:45 PM – Presentation ends (Q&A) Select dessert from buffet (Coffee / tea)\n7:30 – 8:15 PM – Tentative guest departure
URL:https://sleepyhollowgolfclub.com/event/wealth-enhancement/
CATEGORIES:Anderson Room,Mukesh Room
END:VEVENT
BEGIN:VEVENT
DTSTART;VALUE=DATE:20260516
DTEND;VALUE=DATE:20260517
DTSTAMP:20260424T082941
CREATED:20260420T114503Z
LAST-MODIFIED:20260423T190021Z
UID:72981-1778889600-1778975999@sleepyhollowgolfclub.com
SUMMARY:Calvary Baptist Academy Prom
DESCRIPTION:8228B$500 rentalPd $250 deposit 2/18/26Black linens \nChicken BreastRoast beef w/gravyCarrotsmashed potatoessaladbreaddrink station$24 pp
URL:https://sleepyhollowgolfclub.com/event/calvary-baptist-academy-prom/
CATEGORIES:Anderson Room,Mukesh Room
END:VEVENT
BEGIN:VEVENT
DTSTART;VALUE=DATE:20260517
DTEND;VALUE=DATE:20260518
DTSTAMP:20260424T082941
CREATED:20260420T114503Z
LAST-MODIFIED:20260423T190021Z
UID:72982-1778976000-1779062399@sleepyhollowgolfclub.com
SUMMARY:Posey Graduation Party
DESCRIPTION:Suzanne Posey\nsupo714@gmail.com\n304-545-7894\nRental $400\nPaid $200 deposit
URL:https://sleepyhollowgolfclub.com/event/posey-graduation-party/
CATEGORIES:Anderson Room,Mukesh Room
END:VEVENT
BEGIN:VEVENT
DTSTART;VALUE=DATE:20260526
DTEND;VALUE=DATE:20260527
DTSTAMP:20260424T082941
CREATED:20260420T114503Z
LAST-MODIFIED:20260423T190021Z
UID:72983-1779753600-1779839999@sleepyhollowgolfclub.com
SUMMARY:CLOSED
DESCRIPTION:
URL:https://sleepyhollowgolfclub.com/event/closed/
CATEGORIES:Anderson Room,Mukesh Room
END:VEVENT
BEGIN:VEVENT
DTSTART;VALUE=DATE:20260529
DTEND;VALUE=DATE:20260530
DTSTAMP:20260424T082941
CREATED:20260420T114503Z
LAST-MODIFIED:20260423T190021Z
UID:72984-1780012800-1780099199@sleepyhollowgolfclub.com
SUMMARY:Matheny Grad Party
DESCRIPTION:Tom Matheny304-545-9246matheny121756@gmail.com$400 rental8212BPD $200 Deposit 12/4/25
URL:https://sleepyhollowgolfclub.com/event/matheny-grad-party/
CATEGORIES:Anderson Room,Mukesh Room
END:VEVENT
BEGIN:VEVENT
DTSTART;VALUE=DATE:20260531
DTEND;VALUE=DATE:20260601
DTSTAMP:20260424T082941
CREATED:20260420T114503Z
LAST-MODIFIED:20260423T190021Z
UID:72985-1780185600-1780271999@sleepyhollowgolfclub.com
SUMMARY:Tue Bridal Shower
DESCRIPTION:
URL:https://sleepyhollowgolfclub.com/event/tue-bridal-shower/
CATEGORIES:Anderson Room,Mukesh Room
END:VEVENT
BEGIN:VEVENT
DTSTART;VALUE=DATE:20260605
DTEND;VALUE=DATE:20260606
DTSTAMP:20260424T082941
CREATED:20260420T114503Z
LAST-MODIFIED:20260423T190021Z
UID:72986-1780617600-1780703999@sleepyhollowgolfclub.com
SUMMARY:Adams/Davis Rehearsal
DESCRIPTION:Steve Adams\nDaria Davis\nThey have a wedding planner\nWant ceremony on covered balcony\nReception inside\nApps only
URL:https://sleepyhollowgolfclub.com/event/adams-davis-rehearsal/
CATEGORIES:Anderson Room,Mukesh Room
END:VEVENT
BEGIN:VEVENT
DTSTART;VALUE=DATE:20260606
DTEND;VALUE=DATE:20260607
DTSTAMP:20260424T082941
CREATED:20260420T114503Z
LAST-MODIFIED:20260423T190021Z
UID:72988-1780704000-1780790399@sleepyhollowgolfclub.com
SUMMARY:Adams/Davis Wedding
DESCRIPTION:Steve Adam Daria Davis \nAnderson room $400\nMukesh room to get ready $100\nThey have a wedding planner \n Want ceremony on covered balcony \nReception inside \n7PM\nApps only\nbartender open bar $3000\n10 tables
URL:https://sleepyhollowgolfclub.com/event/adams-davis-wedding/
CATEGORIES:Anderson Room,Mukesh Room
END:VEVENT
BEGIN:VEVENT
DTSTART;VALUE=DATE:20260607
DTEND;VALUE=DATE:20260608
DTSTAMP:20260424T082941
CREATED:20260420T114503Z
LAST-MODIFIED:20260423T190022Z
UID:72987-1780790400-1780876799@sleepyhollowgolfclub.com
SUMMARY:Sowards Baby Shower
DESCRIPTION:Sabrina Sowards (employee)\n$200 Rental\n8223B\npd $200
URL:https://sleepyhollowgolfclub.com/event/sowards-baby-shower/
CATEGORIES:Anderson Room,Mukesh Room
END:VEVENT
BEGIN:VEVENT
DTSTART;VALUE=DATE:20260613
DTEND;VALUE=DATE:20260614
DTSTAMP:20260424T082941
CREATED:20260420T114504Z
LAST-MODIFIED:20260423T190022Z
UID:72989-1781308800-1781395199@sleepyhollowgolfclub.com
SUMMARY:WV Paving Outing
DESCRIPTION:
URL:https://sleepyhollowgolfclub.com/event/wv-paving-outing/
CATEGORIES:Anderson Room,Mukesh Room
END:VEVENT
BEGIN:VEVENT
DTSTART;VALUE=DATE:20260614
DTEND;VALUE=DATE:20260615
DTSTAMP:20260424T082941
CREATED:20260420T114504Z
LAST-MODIFIED:20260423T190022Z
UID:72990-1781395200-1781481599@sleepyhollowgolfclub.com
SUMMARY:Butch Grad Party
DESCRIPTION:304-993-2727\n1:00-3:00
URL:https://sleepyhollowgolfclub.com/event/butch-grad-party/
CATEGORIES:Anderson Room,Mukesh Room
END:VEVENT
BEGIN:VEVENT
DTSTART;VALUE=DATE:20260620
DTEND;VALUE=DATE:20260621
DTSTAMP:20260424T082941
CREATED:20260420T114504Z
LAST-MODIFIED:20260423T190022Z
UID:72991-1781913600-1781999999@sleepyhollowgolfclub.com
SUMMARY:Leach Wedding Reception
DESCRIPTION:Sara Leach\nRental for both rooms $650
URL:https://sleepyhollowgolfclub.com/event/leach-wedding-reception/
CATEGORIES:Anderson Room,Mukesh Room
END:VEVENT
BEGIN:VEVENT
DTSTART;VALUE=DATE:20260627
DTEND;VALUE=DATE:20260628
DTSTAMP:20260424T082941
CREATED:20260420T114504Z
LAST-MODIFIED:20260423T190022Z
UID:72992-1782518400-1782604799@sleepyhollowgolfclub.com
SUMMARY:Bryant Wedding/Recep
DESCRIPTION:Kaleena Bryant\nPaid $500 Deposit
URL:https://sleepyhollowgolfclub.com/event/bryant-wedding-recep/
CATEGORIES:Anderson Room,Mukesh Room
END:VEVENT
BEGIN:VEVENT
DTSTART;VALUE=DATE:20260628
DTEND;VALUE=DATE:20260629
DTSTAMP:20260424T082941
CREATED:20260420T114504Z
LAST-MODIFIED:20260423T190022Z
UID:72993-1782604800-1782691199@sleepyhollowgolfclub.com
SUMMARY:Parent/Child Event ?
DESCRIPTION:
URL:https://sleepyhollowgolfclub.com/event/parent-child-event/
CATEGORIES:Anderson Room,Mukesh Room
END:VEVENT
BEGIN:VEVENT
DTSTART;VALUE=DATE:20260711
DTEND;VALUE=DATE:20260712
DTSTAMP:20260424T082941
CREATED:20260420T114504Z
LAST-MODIFIED:20260423T190022Z
UID:72994-1783728000-1783814399@sleepyhollowgolfclub.com
SUMMARY:Member App Party?
DESCRIPTION:
URL:https://sleepyhollowgolfclub.com/event/member-app-party/
CATEGORIES:Anderson Room,Mukesh Room
END:VEVENT
BEGIN:VEVENT
DTSTART;VALUE=DATE:20260718
DTEND;VALUE=DATE:20260719
DTSTAMP:20260424T082941
CREATED:20260420T114504Z
LAST-MODIFIED:20260423T190023Z
UID:72995-1784332800-1784419199@sleepyhollowgolfclub.com
SUMMARY:Member App. Party?
DESCRIPTION:
URL:https://sleepyhollowgolfclub.com/event/member-app-party-2/
CATEGORIES:Anderson Room,Mukesh Room
END:VEVENT
BEGIN:VEVENT
DTSTART;VALUE=DATE:20260725
DTEND;VALUE=DATE:20260726
DTSTAMP:20260424T082941
CREATED:20260420T114504Z
LAST-MODIFIED:20260423T190023Z
UID:72996-1784937600-1785023999@sleepyhollowgolfclub.com
SUMMARY:Engel Birthday Party
DESCRIPTION:Alexa Engel\n304-550-8057\nEmailed contract and menu 4/14/26
URL:https://sleepyhollowgolfclub.com/event/engel-birthday-party/
CATEGORIES:Anderson Room,Mukesh Room
END:VEVENT
BEGIN:VEVENT
DTSTART;VALUE=DATE:20260731
DTEND;VALUE=DATE:20260801
DTSTAMP:20260424T082941
CREATED:20260420T114505Z
LAST-MODIFIED:20260423T190023Z
UID:72997-1785456000-1785542399@sleepyhollowgolfclub.com
SUMMARY:Buffalo Reunion
DESCRIPTION:
URL:https://sleepyhollowgolfclub.com/event/buffalo-reunion/
CATEGORIES:Anderson Room,Mukesh Room
END:VEVENT
BEGIN:VEVENT
DTSTART;VALUE=DATE:20260808
DTEND;VALUE=DATE:20260809
DTSTAMP:20260424T082941
CREATED:20260420T114505Z
LAST-MODIFIED:20260423T190023Z
UID:72998-1786147200-1786233599@sleepyhollowgolfclub.com
SUMMARY:Heddelson Family Reunion
DESCRIPTION:Tamela Mushrush\n304-679-2152\nsafetygirlwv@yahoo.com\npd $250 deposit\nSigned contract in folder\nRoom rental $500
URL:https://sleepyhollowgolfclub.com/event/heddelson-family-reunion/
CATEGORIES:Anderson Room,Mukesh Room
END:VEVENT
BEGIN:VEVENT
DTSTART;VALUE=DATE:20260815
DTEND;VALUE=DATE:20260816
DTSTAMP:20260424T082941
CREATED:20260420T114505Z
LAST-MODIFIED:20260423T190023Z
UID:72999-1786752000-1786838399@sleepyhollowgolfclub.com
SUMMARY:Dive In Movie Night
DESCRIPTION:
URL:https://sleepyhollowgolfclub.com/event/dive-in-movie-night/
CATEGORIES:Anderson Room,Mukesh Room
END:VEVENT
BEGIN:VEVENT
DTSTART;VALUE=DATE:20260817
DTEND;VALUE=DATE:20260818
DTSTAMP:20260424T082941
CREATED:20260420T114505Z
LAST-MODIFIED:20260423T190023Z
UID:73000-1786924800-1787011199@sleepyhollowgolfclub.com
SUMMARY:WV Futbol Club Outing
DESCRIPTION:
URL:https://sleepyhollowgolfclub.com/event/wv-futbol-club-outing/
CATEGORIES:Anderson Room,Mukesh Room
END:VEVENT
BEGIN:VEVENT
DTSTART;VALUE=DATE:20260820
DTEND;VALUE=DATE:20260821
DTSTAMP:20260424T082941
CREATED:20260420T114506Z
LAST-MODIFIED:20260423T190023Z
UID:73001-1787184000-1787270399@sleepyhollowgolfclub.com
SUMMARY:Comedy Show Unconfirmed
DESCRIPTION:
URL:https://sleepyhollowgolfclub.com/event/comedy-show-unconfirmed/
CATEGORIES:Anderson Room,Mukesh Room
END:VEVENT
BEGIN:VEVENT
DTSTART;VALUE=DATE:20260824
DTEND;VALUE=DATE:20260828
DTSTAMP:20260424T082941
CREATED:20260420T114506Z
LAST-MODIFIED:20260423T190023Z
UID:73002-1787529600-1787875199@sleepyhollowgolfclub.com
SUMMARY:Aerification
DESCRIPTION:
URL:https://sleepyhollowgolfclub.com/event/aerification/
CATEGORIES:Anderson Room,Mukesh Room
END:VEVENT
BEGIN:VEVENT
DTSTART;VALUE=DATE:20260906
DTEND;VALUE=DATE:20260907
DTSTAMP:20260424T082941
CREATED:20260420T114506Z
LAST-MODIFIED:20260423T190024Z
UID:73003-1788652800-1788739199@sleepyhollowgolfclub.com
SUMMARY:Labor Day Pool Party
DESCRIPTION:
URL:https://sleepyhollowgolfclub.com/event/labor-day-pool-party/
CATEGORIES:Anderson Room,Mukesh Room
END:VEVENT
BEGIN:VEVENT
DTSTART;VALUE=DATE:20260908
DTEND;VALUE=DATE:20260909
DTSTAMP:20260424T082941
CREATED:20260420T114506Z
LAST-MODIFIED:20260423T190024Z
UID:73004-1788825600-1788911999@sleepyhollowgolfclub.com
SUMMARY:Closed
DESCRIPTION:
URL:https://sleepyhollowgolfclub.com/event/closed-2/
CATEGORIES:Anderson Room,Mukesh Room
END:VEVENT
BEGIN:VEVENT
DTSTART;VALUE=DATE:20260914
DTEND;VALUE=DATE:20260915
DTSTAMP:20260424T082941
CREATED:20260420T114506Z
LAST-MODIFIED:20260423T190024Z
UID:73005-1789344000-1789430399@sleepyhollowgolfclub.com
SUMMARY:Special Olympics Outing
DESCRIPTION:
URL:https://sleepyhollowgolfclub.com/event/special-olympics-outing/
CATEGORIES:Anderson Room,Mukesh Room
END:VEVENT
BEGIN:VEVENT
DTSTART;VALUE=DATE:20260917
DTEND;VALUE=DATE:20260920
DTSTAMP:20260424T082941
CREATED:20260420T114507Z
LAST-MODIFIED:20260423T190024Z
UID:73006-1789603200-1789862399@sleepyhollowgolfclub.com
SUMMARY:Member Guest
DESCRIPTION:
URL:https://sleepyhollowgolfclub.com/event/member-guest/
CATEGORIES:Anderson Room,Mukesh Room
END:VEVENT
END:VCALENDAR