BEGIN:VCALENDAR
VERSION:2.0
PRODID:-//Sleepy Hollow Golf Club - ECPv6.15.20//NONSGML v1.0//EN
CALSCALE:GREGORIAN
METHOD:PUBLISH
X-ORIGINAL-URL:https://sleepyhollowgolfclub.com
X-WR-CALDESC:Events for Sleepy Hollow Golf Club
REFRESH-INTERVAL;VALUE=DURATION:PT1H
X-Robots-Tag:noindex
X-PUBLISHED-TTL:PT1H
BEGIN:VTIMEZONE
TZID:America/New_York
BEGIN:DAYLIGHT
TZOFFSETFROM:-0500
TZOFFSETTO:-0400
TZNAME:EDT
DTSTART:20250309T070000
END:DAYLIGHT
BEGIN:STANDARD
TZOFFSETFROM:-0400
TZOFFSETTO:-0500
TZNAME:EST
DTSTART:20251102T060000
END:STANDARD
BEGIN:DAYLIGHT
TZOFFSETFROM:-0500
TZOFFSETTO:-0400
TZNAME:EDT
DTSTART:20260308T070000
END:DAYLIGHT
BEGIN:STANDARD
TZOFFSETFROM:-0400
TZOFFSETTO:-0500
TZNAME:EST
DTSTART:20261101T060000
END:STANDARD
BEGIN:DAYLIGHT
TZOFFSETFROM:-0500
TZOFFSETTO:-0400
TZNAME:EDT
DTSTART:20270314T070000
END:DAYLIGHT
BEGIN:STANDARD
TZOFFSETFROM:-0400
TZOFFSETTO:-0500
TZNAME:EST
DTSTART:20271107T060000
END:STANDARD
END:VTIMEZONE
BEGIN:VEVENT
DTSTART;VALUE=DATE:20261005
DTEND;VALUE=DATE:20261006
DTSTAMP:20260424T095315
CREATED:20260420T114508Z
LAST-MODIFIED:20260423T190025Z
UID:73011-1791158400-1791244799@sleepyhollowgolfclub.com
SUMMARY:FCA Outing
DESCRIPTION:
URL:https://sleepyhollowgolfclub.com/event/fca-outing/
CATEGORIES:Anderson Room,Mukesh Room
END:VEVENT
BEGIN:VEVENT
DTSTART;VALUE=DATE:20261010
DTEND;VALUE=DATE:20261011
DTSTAMP:20260424T095315
CREATED:20260420T114509Z
LAST-MODIFIED:20260423T190025Z
UID:73012-1791590400-1791676799@sleepyhollowgolfclub.com
SUMMARY:Fall Harvest Dinner
DESCRIPTION:
URL:https://sleepyhollowgolfclub.com/event/fall-harvest-dinner/
CATEGORIES:Anderson Room,Mukesh Room
END:VEVENT
BEGIN:VEVENT
DTSTART;VALUE=DATE:20261012
DTEND;VALUE=DATE:20261013
DTSTAMP:20260424T095315
CREATED:20260420T114509Z
LAST-MODIFIED:20260423T190025Z
UID:73013-1791763200-1791849599@sleepyhollowgolfclub.com
SUMMARY:Ruggier Outing
DESCRIPTION:
URL:https://sleepyhollowgolfclub.com/event/ruggier-outing/
CATEGORIES:Anderson Room,Mukesh Room
END:VEVENT
BEGIN:VEVENT
DTSTART;VALUE=DATE:20261016
DTEND;VALUE=DATE:20261017
DTSTAMP:20260424T095315
CREATED:20260420T114509Z
LAST-MODIFIED:20260423T190025Z
UID:73014-1792108800-1792195199@sleepyhollowgolfclub.com
SUMMARY:Wine Tasting
DESCRIPTION:
URL:https://sleepyhollowgolfclub.com/event/wine-tasting/
CATEGORIES:Anderson Room,Mukesh Room
END:VEVENT
BEGIN:VEVENT
DTSTART;VALUE=DATE:20261019
DTEND;VALUE=DATE:20261020
DTSTAMP:20260424T095315
CREATED:20260420T114509Z
LAST-MODIFIED:20260423T190025Z
UID:73015-1792368000-1792454399@sleepyhollowgolfclub.com
SUMMARY:WVGA Qualifier Event
DESCRIPTION:
URL:https://sleepyhollowgolfclub.com/event/wvga-qualifier-event/
CATEGORIES:Anderson Room,Mukesh Room
END:VEVENT
BEGIN:VEVENT
DTSTART;VALUE=DATE:20261023
DTEND;VALUE=DATE:20261024
DTSTAMP:20260424T095315
CREATED:20260420T114510Z
LAST-MODIFIED:20260423T190025Z
UID:73017-1792713600-1792799999@sleepyhollowgolfclub.com
SUMMARY:Adult Costume Party/Karaoke
DESCRIPTION:
URL:https://sleepyhollowgolfclub.com/event/adult-costume-party-karaoke/
CATEGORIES:Anderson Room,Mukesh Room
END:VEVENT
BEGIN:VEVENT
DTSTART;VALUE=DATE:20261024
DTEND;VALUE=DATE:20261025
DTSTAMP:20260424T095315
CREATED:20260420T114510Z
LAST-MODIFIED:20260423T190025Z
UID:73016-1792800000-1792886399@sleepyhollowgolfclub.com
SUMMARY:Trick or Treat Trail Sat or Sun?
DESCRIPTION:
URL:https://sleepyhollowgolfclub.com/event/trick-or-treat-trail-sat-or-sun/
CATEGORIES:Anderson Room,Mukesh Room
END:VEVENT
BEGIN:VEVENT
DTSTART;VALUE=DATE:20261105
DTEND;VALUE=DATE:20261106
DTSTAMP:20260424T095315
CREATED:20260420T114510Z
LAST-MODIFIED:20260423T190025Z
UID:73018-1793836800-1793923199@sleepyhollowgolfclub.com
SUMMARY:Harris Client Event
DESCRIPTION:Member #2709\nEvent #8236B\nRoom Rental $400\nDeposit Pd $200\n6:00-8:00\nTech Fee $50\nBartender $40/hour
URL:https://sleepyhollowgolfclub.com/event/harris-client-event/
CATEGORIES:Anderson Room,Mukesh Room
END:VEVENT
BEGIN:VEVENT
DTSTART;VALUE=DATE:20261113
DTEND;VALUE=DATE:20261114
DTSTAMP:20260424T095315
CREATED:20260420T114510Z
LAST-MODIFIED:20260423T190026Z
UID:73019-1794528000-1794614399@sleepyhollowgolfclub.com
SUMMARY:Wine Tasting/Dinner
DESCRIPTION:
URL:https://sleepyhollowgolfclub.com/event/wine-tasting-dinner/
CATEGORIES:Anderson Room,Mukesh Room
END:VEVENT
BEGIN:VEVENT
DTSTART;VALUE=DATE:20261118
DTEND;VALUE=DATE:20261119
DTSTAMP:20260424T095315
CREATED:20260420T114511Z
LAST-MODIFIED:20260423T190026Z
UID:73020-1794960000-1795046399@sleepyhollowgolfclub.com
SUMMARY:Thanksgiving Trivia
DESCRIPTION:
URL:https://sleepyhollowgolfclub.com/event/thanksgiving-trivia/
CATEGORIES:Anderson Room,Mukesh Room
END:VEVENT
BEGIN:VEVENT
DTSTART;VALUE=DATE:20261128
DTEND;VALUE=DATE:20261129
DTSTAMP:20260424T095315
CREATED:20260420T114511Z
LAST-MODIFIED:20260423T190026Z
UID:73021-1795824000-1795910399@sleepyhollowgolfclub.com
SUMMARY:Seafood Buffet
DESCRIPTION:
URL:https://sleepyhollowgolfclub.com/event/seafood-buffet/
CATEGORIES:Anderson Room,Mukesh Room
END:VEVENT
BEGIN:VEVENT
DTSTART;VALUE=DATE:20261204
DTEND;VALUE=DATE:20261205
DTSTAMP:20260424T095315
CREATED:20260420T114511Z
LAST-MODIFIED:20260423T190026Z
UID:73022-1796342400-1796428799@sleepyhollowgolfclub.com
SUMMARY:Kids Christmas Movie Night
DESCRIPTION:
URL:https://sleepyhollowgolfclub.com/event/kids-christmas-movie-night/
CATEGORIES:Anderson Room,Mukesh Room
END:VEVENT
BEGIN:VEVENT
DTSTART;VALUE=DATE:20261211
DTEND;VALUE=DATE:20261212
DTSTAMP:20260424T095315
CREATED:20260420T114511Z
LAST-MODIFIED:20260423T190026Z
UID:73023-1796947200-1797033599@sleepyhollowgolfclub.com
SUMMARY:Wine Tasting?
DESCRIPTION:
URL:https://sleepyhollowgolfclub.com/event/wine-tasting-2/
CATEGORIES:Anderson Room,Mukesh Room
END:VEVENT
BEGIN:VEVENT
DTSTART;VALUE=DATE:20261212
DTEND;VALUE=DATE:20261213
DTSTAMP:20260424T095315
CREATED:20260420T114512Z
LAST-MODIFIED:20260423T190026Z
UID:73025-1797033600-1797119999@sleepyhollowgolfclub.com
SUMMARY:AEP Christmas Dinner
DESCRIPTION:Tammy Hancock
URL:https://sleepyhollowgolfclub.com/event/aep-christmas-dinner/
CATEGORIES:Anderson Room,Mukesh Room
END:VEVENT
BEGIN:VEVENT
DTSTART;VALUE=DATE:20261213
DTEND;VALUE=DATE:20261214
DTSTAMP:20260424T095315
CREATED:20260420T114512Z
LAST-MODIFIED:20260423T190026Z
UID:73024-1797120000-1797206399@sleepyhollowgolfclub.com
SUMMARY:Brunch with Santa
DESCRIPTION:
URL:https://sleepyhollowgolfclub.com/event/brunch-with-santa/
CATEGORIES:Anderson Room,Mukesh Room
END:VEVENT
BEGIN:VEVENT
DTSTART;VALUE=DATE:20261216
DTEND;VALUE=DATE:20261217
DTSTAMP:20260424T095315
CREATED:20260420T114512Z
LAST-MODIFIED:20260423T190027Z
UID:73026-1797379200-1797465599@sleepyhollowgolfclub.com
SUMMARY:Christmas Trivia
DESCRIPTION:
URL:https://sleepyhollowgolfclub.com/event/christmas-trivia/
CATEGORIES:Anderson Room,Mukesh Room
END:VEVENT
BEGIN:VEVENT
DTSTART;VALUE=DATE:20261218
DTEND;VALUE=DATE:20261219
DTSTAMP:20260424T095315
CREATED:20260420T114512Z
LAST-MODIFIED:20260423T190027Z
UID:73027-1797552000-1797638399@sleepyhollowgolfclub.com
SUMMARY:Wine Tasting?
DESCRIPTION:
URL:https://sleepyhollowgolfclub.com/event/wine-tasting-3/
CATEGORIES:Anderson Room,Mukesh Room
END:VEVENT
END:VCALENDAR