BEGIN:VCALENDAR
VERSION:2.0
PRODID:-//Sleepy Hollow Golf Club - ECPv6.15.20//NONSGML v1.0//EN
CALSCALE:GREGORIAN
METHOD:PUBLISH
X-WR-CALNAME:Sleepy Hollow Golf Club
X-ORIGINAL-URL:https://sleepyhollowgolfclub.com
X-WR-CALDESC:Events for Sleepy Hollow Golf Club
REFRESH-INTERVAL;VALUE=DURATION:PT1H
X-Robots-Tag:noindex
X-PUBLISHED-TTL:PT1H
BEGIN:VTIMEZONE
TZID:America/New_York
BEGIN:DAYLIGHT
TZOFFSETFROM:-0500
TZOFFSETTO:-0400
TZNAME:EDT
DTSTART:20250309T070000
END:DAYLIGHT
BEGIN:STANDARD
TZOFFSETFROM:-0400
TZOFFSETTO:-0500
TZNAME:EST
DTSTART:20251102T060000
END:STANDARD
BEGIN:DAYLIGHT
TZOFFSETFROM:-0500
TZOFFSETTO:-0400
TZNAME:EDT
DTSTART:20260308T070000
END:DAYLIGHT
BEGIN:STANDARD
TZOFFSETFROM:-0400
TZOFFSETTO:-0500
TZNAME:EST
DTSTART:20261101T060000
END:STANDARD
BEGIN:DAYLIGHT
TZOFFSETFROM:-0500
TZOFFSETTO:-0400
TZNAME:EDT
DTSTART:20270314T070000
END:DAYLIGHT
BEGIN:STANDARD
TZOFFSETFROM:-0400
TZOFFSETTO:-0500
TZNAME:EST
DTSTART:20271107T060000
END:STANDARD
END:VTIMEZONE
BEGIN:VEVENT
DTSTART;VALUE=DATE:20260511
DTEND;VALUE=DATE:20260512
DTSTAMP:20260424T094911
CREATED:20260420T120106Z
LAST-MODIFIED:20260423T190027Z
UID:73046-1778457600-1778543999@sleepyhollowgolfclub.com
SUMMARY:Washburn Outing
DESCRIPTION:Bridget Washburnbawashburn@hotmail.com \n7312B \nCheeseburger\, Chicken sandwich\, mac salad\,  baked beans house chips/dip$19 per person. 
URL:https://sleepyhollowgolfclub.com/event/washburn-outing/
CATEGORIES:Golf
END:VEVENT
BEGIN:VEVENT
DTSTART;VALUE=DATE:20260515
DTEND;VALUE=DATE:20260516
DTSTAMP:20260424T094911
CREATED:20260420T120106Z
LAST-MODIFIED:20260423T190027Z
UID:73047-1778803200-1778889599@sleepyhollowgolfclub.com
SUMMARY:YMCA Golf Outing
DESCRIPTION:Marty Bavetz\nmarty@tri-countyymca.org\nEvent #7321B
URL:https://sleepyhollowgolfclub.com/event/ymca-golf-outing/
CATEGORIES:Golf
END:VEVENT
BEGIN:VEVENT
DTSTART;VALUE=DATE:20260518
DTEND;VALUE=DATE:20260519
DTSTAMP:20260424T094911
CREATED:20260420T120106Z
LAST-MODIFIED:20260423T190027Z
UID:73048-1779062400-1779148799@sleepyhollowgolfclub.com
SUMMARY:Senior Series
DESCRIPTION:
URL:https://sleepyhollowgolfclub.com/event/senior-series/
CATEGORIES:Golf
END:VEVENT
BEGIN:VEVENT
DTSTART;VALUE=DATE:20260601
DTEND;VALUE=DATE:20260602
DTSTAMP:20260424T094911
CREATED:20260420T120106Z
LAST-MODIFIED:20260423T190027Z
UID:73049-1780272000-1780358399@sleepyhollowgolfclub.com
SUMMARY:WVGA Junior Event
DESCRIPTION:
URL:https://sleepyhollowgolfclub.com/event/wvga-junior-event/
CATEGORIES:Golf
END:VEVENT
BEGIN:VEVENT
DTSTART;VALUE=DATE:20260612
DTEND;VALUE=DATE:20260613
DTSTAMP:20260424T094911
CREATED:20260420T120106Z
LAST-MODIFIED:20260423T190027Z
UID:73050-1781222400-1781308799@sleepyhollowgolfclub.com
SUMMARY:WV Paving Outing
DESCRIPTION:
URL:https://sleepyhollowgolfclub.com/event/wv-paving-outing-2/
CATEGORIES:Golf
END:VEVENT
BEGIN:VEVENT
DTSTART;VALUE=DATE:20260622
DTEND;VALUE=DATE:20260623
DTSTAMP:20260424T094911
CREATED:20260420T120107Z
LAST-MODIFIED:20260423T190027Z
UID:73051-1782086400-1782172799@sleepyhollowgolfclub.com
SUMMARY:Putnam Chamber Outing
DESCRIPTION:
URL:https://sleepyhollowgolfclub.com/event/putnam-chamber-outing/
CATEGORIES:Golf
END:VEVENT
BEGIN:VEVENT
DTSTART;VALUE=DATE:20260627
DTEND;VALUE=DATE:20260628
DTSTAMP:20260424T094911
CREATED:20260420T120107Z
LAST-MODIFIED:20260423T190028Z
UID:73052-1782518400-1782604799@sleepyhollowgolfclub.com
SUMMARY:Parent/Child Event
DESCRIPTION:
URL:https://sleepyhollowgolfclub.com/event/parent-child-event-2/
CATEGORIES:Golf
END:VEVENT
BEGIN:VEVENT
DTSTART;VALUE=DATE:20260629
DTEND;VALUE=DATE:20260630
DTSTAMP:20260424T094911
CREATED:20260420T120107Z
LAST-MODIFIED:20260423T190028Z
UID:73053-1782691200-1782777599@sleepyhollowgolfclub.com
SUMMARY:United Methodist Outing
DESCRIPTION:
URL:https://sleepyhollowgolfclub.com/event/united-methodist-outing/
CATEGORIES:Golf
END:VEVENT
BEGIN:VEVENT
DTSTART;VALUE=DATE:20260713
DTEND;VALUE=DATE:20260714
DTSTAMP:20260424T094911
CREATED:20260420T120107Z
LAST-MODIFIED:20260423T190028Z
UID:73054-1783900800-1783987199@sleepyhollowgolfclub.com
SUMMARY:WVGA Open Qualifier
DESCRIPTION:
URL:https://sleepyhollowgolfclub.com/event/wvga-open-qualifier/
CATEGORIES:Golf
END:VEVENT
BEGIN:VEVENT
DTSTART;VALUE=DATE:20260727
DTEND;VALUE=DATE:20260728
DTSTAMP:20260424T094911
CREATED:20260420T120107Z
LAST-MODIFIED:20260423T190028Z
UID:73055-1785110400-1785196799@sleepyhollowgolfclub.com
SUMMARY:Citco Water Outing
DESCRIPTION:
URL:https://sleepyhollowgolfclub.com/event/citco-water-outing/
CATEGORIES:Golf
END:VEVENT
END:VCALENDAR